BEGIN:VCALENDAR
VERSION:2.0
PRODID:-//Nature Bloomers - ECPv6.15.20//NONSGML v1.0//EN
CALSCALE:GREGORIAN
METHOD:PUBLISH
X-WR-CALNAME:Nature Bloomers
X-ORIGINAL-URL:https://naturebloomers.com
X-WR-CALDESC:Events for Nature Bloomers
REFRESH-INTERVAL;VALUE=DURATION:PT1H
X-Robots-Tag:noindex
X-PUBLISHED-TTL:PT1H
BEGIN:VTIMEZONE
TZID:America/Los_Angeles
BEGIN:DAYLIGHT
TZOFFSETFROM:-0800
TZOFFSETTO:-0700
TZNAME:PDT
DTSTART:20230312T100000
END:DAYLIGHT
BEGIN:STANDARD
TZOFFSETFROM:-0700
TZOFFSETTO:-0800
TZNAME:PST
DTSTART:20231105T090000
END:STANDARD
BEGIN:DAYLIGHT
TZOFFSETFROM:-0800
TZOFFSETTO:-0700
TZNAME:PDT
DTSTART:20240310T100000
END:DAYLIGHT
BEGIN:STANDARD
TZOFFSETFROM:-0700
TZOFFSETTO:-0800
TZNAME:PST
DTSTART:20241103T090000
END:STANDARD
BEGIN:DAYLIGHT
TZOFFSETFROM:-0800
TZOFFSETTO:-0700
TZNAME:PDT
DTSTART:20250309T100000
END:DAYLIGHT
BEGIN:STANDARD
TZOFFSETFROM:-0700
TZOFFSETTO:-0800
TZNAME:PST
DTSTART:20251102T090000
END:STANDARD
END:VTIMEZONE
BEGIN:VEVENT
DTSTART;TZID=America/Los_Angeles:20240901T021500
DTEND;TZID=America/Los_Angeles:20240901T021500
DTSTAMP:20260419T175709
CREATED:20241218T211816Z
LAST-MODIFIED:20241218T211816Z
UID:1883-1725156900-1725156900@naturebloomers.com
SUMMARY:Pedal through Paradise: A Scenic Ride Along Monterey's 17-Mile Drive
DESCRIPTION:**Event:** 218n**Distance:** 20 milesn**Total Elevation Gain:** 150 ft.n**Difficulty:** 3n**Route Type:** Loopn**Gathering location:** 36.6113697\, -121.8977080n[https://maps.app.goo.gl/DtPzT7a5p3t5F8qV9?g_st=com.google.maps.preview.copy](https://maps.app.goo.gl/DtPzT7a5p3t5F8qV9?g_st=com.google.maps.preview.copy)nPlease use Google maps only for navigation.nn**Overview:**nBiking the scenic 17-Mile Drive in Monterey\, California\, is an unforgettable experience. This iconic route\, which winds along the stunning Monterey Peninsula\, offers breathtaking views of the rugged coastline\, pristine beaches\, and towering cypress trees. As you pedal through\, you’ll pass famous landmarks and the elegant mansions that dot the coastline.nThe ride is relatively moderate\, with a mix of gentle hills and flat sections\, making it suitable for most cycling enthusiasts. Along the way\, you can stop at various lookout points to take in the dramatic ocean vistas\, spot seals and sea otters lounging on the rocks\, or simply soak up the fresh sea breeze. The 17-mile route is well-paved and typically features low traffic\, allowing for a peaceful and enjoyable ride. Whether you bring your own bike or choose to rent one at our gathering location\, Adventures by the Sea\, you’ll have everything you need for a perfect day of cycling. Due to the upcoming holiday\, it’s best to reserve a bike – traditional or electric – in advance. For more information\, visit their website [here](https://adventuresbythesea.com/cannery-row/).nWe will start the ride at 10:30 am.nn**Parking:** You can find free parking downtown near the bike rental.nn**Be Prepared:** Please wear a helmet\, use sunscreen\, and consider high-visibility clothing to ensure you are seen by other road users. Parts of the route are shared with cars. Bring plenty of water\, snacks\, and good energy 🙂nn**Do Not Attend:** If you’re experiencing any cold or flu symptoms\, have compromised immune systems\, or if you’ve been exposed to or tested positive for COVID-19. nn**Legal Disclaimers:** By voluntarily joining us for any event\, you acknowledge and accept the inherent risks involved in these activities and assume full responsibility for your personal safety. Your participation is voluntary\, and hereby RELEASE and DISCHARGE Nature Bloomers organizers\, hosts and participants from any and all liability\, claims\, demands\, damages\, injuries or causes of action arising in whole or in part that may occur before\, during\, or after the event\, including travel to and from the event location. Your attendance implies to be in the photos and videos taken to be posted on our social media platforms. By attending this event\, you confirm that you have read\, understood\, and agreed to these terms and conditions.
URL:https://naturebloomers.com/event/pedal-through-paradise-a-scenic-ride-along-montereys-17-mile-drive/
LOCATION:Monterey\, California\, Monterey\, Ca\, Sacramento\, CA\, 95822\, United States
ATTACH;FMTTYPE=image/jpeg:https://naturebloomers.com/wp-content/uploads/2024/12/1000x600-mWlRwQ.tmp_.jpg
END:VEVENT
END:VCALENDAR