BEGIN:VCALENDAR
VERSION:2.0
PRODID:-//Nature Bloomers - ECPv6.15.20//NONSGML v1.0//EN
CALSCALE:GREGORIAN
METHOD:PUBLISH
X-WR-CALNAME:Nature Bloomers
X-ORIGINAL-URL:https://naturebloomers.com
X-WR-CALDESC:Events for Nature Bloomers
REFRESH-INTERVAL;VALUE=DURATION:PT1H
X-Robots-Tag:noindex
X-PUBLISHED-TTL:PT1H
BEGIN:VTIMEZONE
TZID:America/Los_Angeles
BEGIN:DAYLIGHT
TZOFFSETFROM:-0800
TZOFFSETTO:-0700
TZNAME:PDT
DTSTART:20230312T100000
END:DAYLIGHT
BEGIN:STANDARD
TZOFFSETFROM:-0700
TZOFFSETTO:-0800
TZNAME:PST
DTSTART:20231105T090000
END:STANDARD
BEGIN:DAYLIGHT
TZOFFSETFROM:-0800
TZOFFSETTO:-0700
TZNAME:PDT
DTSTART:20240310T100000
END:DAYLIGHT
BEGIN:STANDARD
TZOFFSETFROM:-0700
TZOFFSETTO:-0800
TZNAME:PST
DTSTART:20241103T090000
END:STANDARD
BEGIN:DAYLIGHT
TZOFFSETFROM:-0800
TZOFFSETTO:-0700
TZNAME:PDT
DTSTART:20250309T100000
END:DAYLIGHT
BEGIN:STANDARD
TZOFFSETFROM:-0700
TZOFFSETTO:-0800
TZNAME:PST
DTSTART:20251102T090000
END:STANDARD
END:VTIMEZONE
BEGIN:VEVENT
DTSTART;TZID=America/Los_Angeles:20240908T113000
DTEND;TZID=America/Los_Angeles:20240908T113000
DTSTAMP:20260419T175616
CREATED:20241218T211815Z
LAST-MODIFIED:20241218T211815Z
UID:1881-1725795000-1725795000@naturebloomers.com
SUMMARY:Mt. Whitney backpacking and hiking
DESCRIPTION:Event: 219 Total Elevation Gain: 6100 ft. Difficulty: 10  Overview: nThe Mt. Whitney backpacking trip is scheduled from September 27th to 29th. The highest and lowest elevations in the continental United States are located in the region of our hike\, making this a once-in-a-lifetime experience that many people around the world aspire to. Nature Bloomers is inviting you to a scheduled Zoom meeting held on Thursday\, September 5th\, at 7:30 PM PST.nnJoin Zoom Meetingnhttps://us04web.zoom.us/j/76062900643?pwd=kAFP2WqQhbkslogrFYj85gJyrpTGxs.1nMeeting ID: 760 6290 0643Passcode: 7zQ3SW
URL:https://naturebloomers.com/event/mt-whitney-backpacking-and-hiking/
LOCATION:Online event
ATTACH;FMTTYPE=image/jpeg:https://naturebloomers.com/wp-content/uploads/2024/12/1000x600-Z8v9Zh.tmp_.jpg
END:VEVENT
END:VCALENDAR