BEGIN:VCALENDAR
VERSION:2.0
PRODID:-//Nature Bloomers - ECPv6.15.20//NONSGML v1.0//EN
CALSCALE:GREGORIAN
METHOD:PUBLISH
X-ORIGINAL-URL:https://naturebloomers.com
X-WR-CALDESC:Events for Nature Bloomers
REFRESH-INTERVAL;VALUE=DURATION:PT1H
X-Robots-Tag:noindex
X-PUBLISHED-TTL:PT1H
BEGIN:VTIMEZONE
TZID:America/Los_Angeles
BEGIN:DAYLIGHT
TZOFFSETFROM:-0800
TZOFFSETTO:-0700
TZNAME:PDT
DTSTART:20230312T100000
END:DAYLIGHT
BEGIN:STANDARD
TZOFFSETFROM:-0700
TZOFFSETTO:-0800
TZNAME:PST
DTSTART:20231105T090000
END:STANDARD
BEGIN:DAYLIGHT
TZOFFSETFROM:-0800
TZOFFSETTO:-0700
TZNAME:PDT
DTSTART:20240310T100000
END:DAYLIGHT
BEGIN:STANDARD
TZOFFSETFROM:-0700
TZOFFSETTO:-0800
TZNAME:PST
DTSTART:20241103T090000
END:STANDARD
BEGIN:DAYLIGHT
TZOFFSETFROM:-0800
TZOFFSETTO:-0700
TZNAME:PDT
DTSTART:20250309T100000
END:DAYLIGHT
BEGIN:STANDARD
TZOFFSETFROM:-0700
TZOFFSETTO:-0800
TZNAME:PST
DTSTART:20251102T090000
END:STANDARD
END:VTIMEZONE
BEGIN:VEVENT
DTSTART;TZID=America/Los_Angeles:20240915T011500
DTEND;TZID=America/Los_Angeles:20240915T011500
DTSTAMP:20260419T175720
CREATED:20241218T211814Z
LAST-MODIFIED:20241218T211814Z
UID:1879-1726362900-1726362900@naturebloomers.com
SUMMARY:Majestic Views of Mount Tamalpais
DESCRIPTION:**Event:** 220n**Distance:** 9 milesn**Total Elevation Gain:** 2100 ft. n**Difficulty:** 8n**Route Type:** Loopn**Gathering location:** 37.9038\, -122.60397n[https://maps.app.goo.gl/ooAZUgaHaesSxymCA?g_st=i](https://maps.app.goo.gl/ooAZUgaHaesSxymCA?g_st=i)nn**Please use Google maps only for navigation.**nn**Overview:** nJoin us to explore the scenic beauty of Mount Tamalpais State Park\, a natural gem located just north of San Francisco. This stunning park offers sweeping views of the Pacific Ocean\, Marin County\, and even glimpses of the city skyline on clear days. The diverse landscape includes towering redwoods\, rolling hills\, and picturesque meadows\, providing an ideal backdrop for a peaceful hike. Along the trail\, we’ll experience the fresh forest air\, spot native wildlife\, and enjoy the vibrant greenery that makes this park a favorite among nature lovers. Whether you’re an experienced hiker or new to outdoor adventures\, Mount Tamalpais offers a rewarding experience for all skill levels.nWe will start the hike sharp at 9:30 am.nn**Parking:** There is a $10 parking fee. Parking is available on two sides if the trail head. [https://maps.app.goo.gl/ooAZUgaHaesSxymCA?g_st=i](https://maps.app.goo.gl/ooAZUgaHaesSxymCA?g_st=i)nn**Be Prepared:** Please wear layered clothing and sunscreen. Bring plenty of water\, snacks\, and good energy 🙂nn**Do Not Attend:** If you’re experiencing any cold or flu symptoms\, have compromised immune systems\, or if you’ve been exposed to or tested positive for COVID-19.nn**Legal Disclaimers:** By voluntarily joining us for any event\, you acknowledge and accept the inherent risks involved in these activities and assume full responsibility for your personal safety. Your participation is voluntary\, and hereby RELEASE and DISCHARGE Nature Bloomers organizers\, hosts and participants from any and all liability\, claims\, demands\, damages\, injuries or causes of action arising in whole or in part that may occur before\, during\, or after the event\, including travel to and from the event location. Your attendance implies to be in the photos and videos taken to be posted on our social media platforms. By attending this event\, you confirm that you have read\, understood\, and agreed to these terms and conditions.
URL:https://naturebloomers.com/event/majestic-views-of-mount-tamalpais/
LOCATION:Pantoll Campground\, 3801 Panoramic Hwy\, Mill Valley\, CA\, United States
ATTACH;FMTTYPE=image/jpeg:https://naturebloomers.com/wp-content/uploads/2024/12/1000x600-C0wxvu.tmp_.jpg
END:VEVENT
END:VCALENDAR