BEGIN:VCALENDAR
VERSION:2.0
PRODID:-//Nature Bloomers - ECPv6.15.20//NONSGML v1.0//EN
CALSCALE:GREGORIAN
METHOD:PUBLISH
X-ORIGINAL-URL:https://naturebloomers.com
X-WR-CALDESC:Events for Nature Bloomers
REFRESH-INTERVAL;VALUE=DURATION:PT1H
X-Robots-Tag:noindex
X-PUBLISHED-TTL:PT1H
BEGIN:VTIMEZONE
TZID:America/Los_Angeles
BEGIN:DAYLIGHT
TZOFFSETFROM:-0800
TZOFFSETTO:-0700
TZNAME:PDT
DTSTART:20230312T100000
END:DAYLIGHT
BEGIN:STANDARD
TZOFFSETFROM:-0700
TZOFFSETTO:-0800
TZNAME:PST
DTSTART:20231105T090000
END:STANDARD
BEGIN:DAYLIGHT
TZOFFSETFROM:-0800
TZOFFSETTO:-0700
TZNAME:PDT
DTSTART:20240310T100000
END:DAYLIGHT
BEGIN:STANDARD
TZOFFSETFROM:-0700
TZOFFSETTO:-0800
TZNAME:PST
DTSTART:20241103T090000
END:STANDARD
BEGIN:DAYLIGHT
TZOFFSETFROM:-0800
TZOFFSETTO:-0700
TZNAME:PDT
DTSTART:20250309T100000
END:DAYLIGHT
BEGIN:STANDARD
TZOFFSETFROM:-0700
TZOFFSETTO:-0800
TZNAME:PST
DTSTART:20251102T090000
END:STANDARD
END:VTIMEZONE
BEGIN:VEVENT
DTSTART;TZID=America/Los_Angeles:20241110T013000
DTEND;TZID=America/Los_Angeles:20241110T013000
DTSTAMP:20260419T143016
CREATED:20241218T211808Z
LAST-MODIFIED:20241218T211808Z
UID:1869-1731202200-1731202200@naturebloomers.com
SUMMARY:🍁 Fall Foliage Hike in Portola Valley! 🍂
DESCRIPTION:ONLY use Google Maps! n**Event**: 226n**Distance**: 5.8 milesn**Total Elevation Gain**: 750 ftn**Difficulty**: 5 out of 10n**Gathering** **coordinates**: 37.3645016683\, -122.21555198nhttps://maps.app.goo.gl/ZDGFvFxXzDd82gtk8nn**Hike Overview**nJoin us for a scenic hike to enjoy the stunning colors of fall! This moderate hike will take us through beautiful trails surrounded by vibrant autumn leaves\, crisp air\, and stunning landscapes. Perfect for nature lovers and photographers alike\, it’s a wonderful way to embrace the season and connect with fellow outdoor enthusiasts. The town of Portola Valley is a runner’s and hiker’s paradise\, with as many miles of trails as there are paved roads. The trails are interwoven throughout the town\, connecting to residential streets.nn**Be Prepared**nPlease prepare with layered clothing\, sunscreen and/or hat\, sturdy hiking shoes/boots\, enough of water\, snacks.nn**Parking**nParking on the road is allowed but limited\, and therefore carpooling is HIGHLY recommended. Please allow enough of time for parking.nn**Legal Disclaimers**nBy voluntarily joining us for any event\, you hereby RELEASE and DISCHARGE Nature Bloomers\, organizers\, hosts and participants from any and all liability\, claims\, demands or causes of action arising in whole or in part out of our events or/and on the way to the event.nYour attendance implies your consent to be in the photos and videos.
URL:https://naturebloomers.com/event/%f0%9f%8d%81-fall-foliage-hike-in-portola-valley-%f0%9f%8d%82/
ATTACH;FMTTYPE=image/jpeg:https://naturebloomers.com/wp-content/uploads/2024/12/1000x600-QpZ4og.tmp_.jpg
END:VEVENT
END:VCALENDAR