BEGIN:VCALENDAR
VERSION:2.0
PRODID:-//Nature Bloomers - ECPv6.15.20//NONSGML v1.0//EN
CALSCALE:GREGORIAN
METHOD:PUBLISH
X-ORIGINAL-URL:https://naturebloomers.com
X-WR-CALDESC:Events for Nature Bloomers
REFRESH-INTERVAL;VALUE=DURATION:PT1H
X-Robots-Tag:noindex
X-PUBLISHED-TTL:PT1H
BEGIN:VTIMEZONE
TZID:America/Los_Angeles
BEGIN:DAYLIGHT
TZOFFSETFROM:-0800
TZOFFSETTO:-0700
TZNAME:PDT
DTSTART:20240310T100000
END:DAYLIGHT
BEGIN:STANDARD
TZOFFSETFROM:-0700
TZOFFSETTO:-0800
TZNAME:PST
DTSTART:20241103T090000
END:STANDARD
BEGIN:DAYLIGHT
TZOFFSETFROM:-0800
TZOFFSETTO:-0700
TZNAME:PDT
DTSTART:20250309T100000
END:DAYLIGHT
BEGIN:STANDARD
TZOFFSETFROM:-0700
TZOFFSETTO:-0800
TZNAME:PST
DTSTART:20251102T090000
END:STANDARD
BEGIN:DAYLIGHT
TZOFFSETFROM:-0800
TZOFFSETTO:-0700
TZNAME:PDT
DTSTART:20260308T100000
END:DAYLIGHT
BEGIN:STANDARD
TZOFFSETFROM:-0700
TZOFFSETTO:-0800
TZNAME:PST
DTSTART:20261101T090000
END:STANDARD
END:VTIMEZONE
BEGIN:VEVENT
DTSTART;TZID=America/Los_Angeles:20250216T020000
DTEND;TZID=America/Los_Angeles:20250216T083000
DTSTAMP:20260419T092125
CREATED:20250212T024328Z
LAST-MODIFIED:20250312T143400Z
UID:2141-1739671200-1739694600@naturebloomers.com
SUMMARY:Pinnacles National Park
DESCRIPTION:Nature Bloomers is excited to invite you on a breathtaking day-trip hike to Pinnacles National Park on Sunday\, February 16! Just 90 minutes from the San Jose area\, Pinnacles is home to towering rock formations\, stunning talus caves\, and diverse landscapes\, making it a perfect destination for adventure and exploration. \nWith Presidents’ Day on Monday\, February 17\, this hike is an ideal way to start your long weekend\, recharge in nature\, and connect with fellow outdoor enthusiasts. Whether you’re an avid hiker or just looking for a refreshing escape\, this journey will leave you feeling invigorated! \nLet’s make this an unforgettable adventure together! 🌄 \n#NatureBloomers #PinnaclesNationalPark #HikingAdventure #OutdoorWellness #GetOutside \n  \n\n\n📍 Event Details\n📅 Date: Sunday\, February 16\n🕥 Meeting Time: 10:00 AM\n📍 Meeting Location: In front of the Visitor Center (short walk from parking)\n🥾 Hike Distance: 8 miles (round trip)\n🗺️ Trail Route: From Visitor Center to Bear Gulch Reservoir and back\n⏳ Estimated Return: 4:30 PM \n🌟 Why Join?\n✅ Explore one of California’s most unique national parks\n✅ Walk through scenic rock formations and caves\n✅ Take a relaxing break at Bear Gulch Reservoir\n✅ Enjoy both shaded and open trail sections\n✅ Meet and connect with like-minded nature lovers \n\n🛠️ Important Information\n🗺️ Maps & Trail Info\n📌 No cell reception in and around the park\, so download offline maps before arriving.\n🚗 Overflow Parking Location: Google Maps Link\n📍 Meeting Point: In front of the Visitor Center (short walk back to the starting point). \n🏞️ Trail Description \n\nTotal Distance: 8 miles\nBreak: One-hour stop at Bear Gulch Reservoir for lunch/snacks.\nTerrain: A mix of shaded and open areas.\nTalus Caves: We will pass through some caves with stepping stones\, and depending on water flow\, there might be short wet sections where proper footwear is recommended.\n\n\n💰 Entrance Fees\n🎟️ $30 per vehicle (unless you have a National Park Pass).\n💳 Credit card only (cash not accepted at the entrance).\n🚗 Carpooling ! Share a ride and split the fee. If you’d like to carpool\, meet at 8:00 am at https://maps.app.goo.gl/ouBWqgWML5arSusg6 \n🏞️ Want to Visit More National Parks?\nConsider purchasing an Annual Pass ($80) at the entrance\, granting access to all U.S. national parks for a full year. \n\n🍴 Food & Water\n🚫 No food or purified water is available for purchase in the park.\n✅ Bring enough food and water for the entire hike (including for our reservoir break).\n🍽️ Option: Leave some extra snacks or meals in your car to eat after the hike. \n\n  \n⚠️ Additional Notes\n🔦 Headlamp or flashlight recommended for passing through talus caves.\n🧤 Proper footwear is essential—some sections might have stepping stones over water (if the reservoir is overflowing).\n📷 Bring a camera! The landscapes and rock formations are stunning. \nIf you need a ride or would like to carpool with others\, we \n\n🚀 Sign Up & Join Us!\n📩 RSVP soon to secure your spot and receive final details. \nLegal Disclaimers: By voluntarily joining us for any event\, you hereby RELEASE and DISCHARGE Nature Bloomers organizers\, hosts and participants from any and all liability\, claims\, demands or causes of action arising in whole or in part out of our events.\nYou also consent to being photographed and recorded in videos\, which may be used on social media.
URL:https://naturebloomers.com/event/pinnacles-national-park/
CATEGORIES:Past Events
ATTACH;FMTTYPE=image/jpeg:https://naturebloomers.com/wp-content/uploads/2025/02/IMG_1755-1.jpg
END:VEVENT
END:VCALENDAR