BEGIN:VCALENDAR
VERSION:2.0
PRODID:-//Nature Bloomers - ECPv6.15.20//NONSGML v1.0//EN
CALSCALE:GREGORIAN
METHOD:PUBLISH
X-WR-CALNAME:Nature Bloomers
X-ORIGINAL-URL:https://naturebloomers.com
X-WR-CALDESC:Events for Nature Bloomers
REFRESH-INTERVAL;VALUE=DURATION:PT1H
X-Robots-Tag:noindex
X-PUBLISHED-TTL:PT1H
BEGIN:VTIMEZONE
TZID:America/Los_Angeles
BEGIN:DAYLIGHT
TZOFFSETFROM:-0800
TZOFFSETTO:-0700
TZNAME:PDT
DTSTART:20240310T100000
END:DAYLIGHT
BEGIN:STANDARD
TZOFFSETFROM:-0700
TZOFFSETTO:-0800
TZNAME:PST
DTSTART:20241103T090000
END:STANDARD
BEGIN:DAYLIGHT
TZOFFSETFROM:-0800
TZOFFSETTO:-0700
TZNAME:PDT
DTSTART:20250309T100000
END:DAYLIGHT
BEGIN:STANDARD
TZOFFSETFROM:-0700
TZOFFSETTO:-0800
TZNAME:PST
DTSTART:20251102T090000
END:STANDARD
BEGIN:DAYLIGHT
TZOFFSETFROM:-0800
TZOFFSETTO:-0700
TZNAME:PDT
DTSTART:20260308T100000
END:DAYLIGHT
BEGIN:STANDARD
TZOFFSETFROM:-0700
TZOFFSETTO:-0800
TZNAME:PST
DTSTART:20261101T090000
END:STANDARD
END:VTIMEZONE
BEGIN:VEVENT
DTSTART;TZID=America/Los_Angeles:20250315T010000
DTEND;TZID=America/Los_Angeles:20250315T050000
DTSTAMP:20260419T092007
CREATED:20250312T142823Z
LAST-MODIFIED:20250317T030709Z
UID:2201-1742000400-1742014800@naturebloomers.com
SUMMARY:Planting and Gardening on Stanford Campus
DESCRIPTION:Join Us for a Community Building Event: Planting Day! \n  \n📅 Date: Saturday\, March 15⏰ Time: 9 AM – 1 PM📍 Location: Stanford Campus🍽️ Lunch Provided! \nNature\, culture\, and community come together for Planting Day\, a special cultural and environmental event inspired by the Persian tradition of welcoming spring and the vernal equinox. \ng \nWhat to Expect:\n🌱 Hands-on activities including planting\, pruning\, weeding\, and raking🌍 Symbolizing renewal\, unity\, and giving back to the Earth🌎 Fostering a stronger sense of community & sustainability🎉 Celebrating diversity and cultural appreciation \nWhat to Bring:\n✔️ Sturdy\, close-toed shoes✔️ Gardening gloves (some will be provided\, but bringing your own is encouraged!)✔️ Sunscreen and/or hat✔️ Water bottle✔️ Comfortable outdoor clothing \n🌱 Help Us Sustain Community Events! \nThis event is made possible by donations\, and to continue hosting similar events in the future\, we need your support! \nTo keep these gatherings going\, volunteers whose employers sponsor their time through corporate volunteer programs are prioritized. Many companies offer volunteer grants\, donating funds when employees volunteer—please check if your employer offers this opportunity! \n📩 RSVP by Friday\, March 14 to secure your spot and help us get an accurate headcount for providing meals! \n🌿 Let’s plant seeds of unity\, sustainability\, and cultural appreciation together!
URL:https://naturebloomers.com/event/planting-and-gardening-on-stanford-campus/
LOCATION:453 Quarry Rd
CATEGORIES:Past Events
ATTACH;FMTTYPE=image/jpeg:https://naturebloomers.com/wp-content/uploads/2025/03/663b4731c68ab.jpg
END:VEVENT
END:VCALENDAR