BEGIN:VCALENDAR
VERSION:2.0
PRODID:-//Nature Bloomers - ECPv6.15.20//NONSGML v1.0//EN
CALSCALE:GREGORIAN
METHOD:PUBLISH
X-WR-CALNAME:Nature Bloomers
X-ORIGINAL-URL:https://naturebloomers.com
X-WR-CALDESC:Events for Nature Bloomers
REFRESH-INTERVAL;VALUE=DURATION:PT1H
X-Robots-Tag:noindex
X-PUBLISHED-TTL:PT1H
BEGIN:VTIMEZONE
TZID:America/Los_Angeles
BEGIN:DAYLIGHT
TZOFFSETFROM:-0800
TZOFFSETTO:-0700
TZNAME:PDT
DTSTART:20200308T100000
END:DAYLIGHT
BEGIN:STANDARD
TZOFFSETFROM:-0700
TZOFFSETTO:-0800
TZNAME:PST
DTSTART:20201101T090000
END:STANDARD
BEGIN:DAYLIGHT
TZOFFSETFROM:-0800
TZOFFSETTO:-0700
TZNAME:PDT
DTSTART:20210314T100000
END:DAYLIGHT
BEGIN:STANDARD
TZOFFSETFROM:-0700
TZOFFSETTO:-0800
TZNAME:PST
DTSTART:20211107T090000
END:STANDARD
BEGIN:DAYLIGHT
TZOFFSETFROM:-0800
TZOFFSETTO:-0700
TZNAME:PDT
DTSTART:20220313T100000
END:DAYLIGHT
BEGIN:STANDARD
TZOFFSETFROM:-0700
TZOFFSETTO:-0800
TZNAME:PST
DTSTART:20221106T090000
END:STANDARD
END:VTIMEZONE
BEGIN:VEVENT
DTSTART;TZID=America/Los_Angeles:20210328T021500
DTEND;TZID=America/Los_Angeles:20210328T021500
DTSTAMP:20260419T235150
CREATED:20241218T213318Z
LAST-MODIFIED:20241218T213318Z
UID:2120-1616897700-1616897700@naturebloomers.com
SUMMARY:Shiny day with ocean view from the Rock Spring Trail
DESCRIPTION:Event 60nn1) I am so excited to see happy faces and vibes on the dirt. The number of participants is limited . Make sure you hit “going” . If you cannot join on Sunday\, please let me know as soon as possible! If you announce late\, others who showed interest to join will be missing the event.nn2) Everybody getting a ride should pay $15\, which includes the $5 donation. If you’ll be driving your own car\, please donate $5.nYour donations will be used promoting group activities such as buying the monthly birthday gifts and safety gears.You could Venmo\, Zell\, and PayPal using my phone number.nnVenmo account: @M_ghasemizadenZell Phone number: 916 210 9206nPaypal: 916 210 9206nn3) I (Mehdi) am not responsible for anything. You are liable for your own safety\, security\, health\, or any unexpected matter.nn4) You are required to wear a mask and have it all all day long.nn5) You agree to be in the photosnn6) Your body temperature will be measured before heading out. If you have symptoms or have body temperature above normal\, you’ll be advised to go home.nnDate: Sunday March 28\, 2021nnTime for gathering at Sacramento: 8.15-8.25 AM. You all know that we’ll head out on timenGathering location: TARGET parking lot https://goo.gl/maps/SJ7jLGpCAzJUmUhw7nnTime for gathering at the trailhead: 10.10-10.15 AM. We’ll head out on timenGathering location: parking lot https://goo.gl/maps/2sva7oRfmBaXU8NX7nnRecommendationsnn1. The hiking path is very shiny\, with views over the ocean.Therefore\, having sunscreens\, caps\, wind breakers\, long sleeve shirts\, pants\, and hiking bootsare highly recommended.n2. Do not cover up yourself heavily with jackets. You’ll get warm right after you start walking.n3. Bring enough of water (MINIMUM 2 liters)\, snacks\, energy/protein bars\, and a small sandwich.n4. Please be easy going with finding the car giving you a ride.n5. We’ll have a break on the hike to have lunch. A small sandwich is highly recommended.n6. Make sure to have breakfast before the hike.
URL:https://naturebloomers.com/event/shiny-day-with-ocean-view-from-the-rock-spring-trail/
LOCATION:Pantoll Rd & Ridgecrest Blvd\, Pantoll Rd & Ridgecrest Blvd\, Mill Valley\, CA\, United States
ATTACH;FMTTYPE=image/jpeg:https://naturebloomers.com/wp-content/uploads/2024/12/1000x600-76F9TD.tmp_.jpg
END:VEVENT
BEGIN:VEVENT
DTSTART;TZID=America/Los_Angeles:20210321T010000
DTEND;TZID=America/Los_Angeles:20210321T010000
DTSTAMP:20260419T235150
CREATED:20241218T213319Z
LAST-MODIFIED:20241218T213319Z
UID:2121-1616288400-1616288400@naturebloomers.com
SUMMARY:Event 58
DESCRIPTION:Our spring events start tomorrow with a walk in the wilderness along the American river\, and close to the Nimbus Dam.nBring your humor and fun moments to share.nnGathering location: https://goo.gl/maps/DD1CGdH4zbtT2Rwe9nnTime: 8:45 to 8:55 am
URL:https://naturebloomers.com/event/event-58/
LOCATION:Online event
ATTACH;FMTTYPE=image/jpeg:https://naturebloomers.com/wp-content/uploads/2024/12/1000x600-Zh64DO.tmp_.jpg
END:VEVENT
BEGIN:VEVENT
DTSTART;TZID=America/Los_Angeles:20210307T015500
DTEND;TZID=America/Los_Angeles:20210307T015500
DTSTAMP:20260419T235150
CREATED:20241218T213320Z
LAST-MODIFIED:20241218T213320Z
UID:2124-1615082100-1615082100@naturebloomers.com
SUMMARY:Hiking with amazing views over the ocean and Sausalito
DESCRIPTION:We’ll be hiking the Coastal Miwok Trail on the north of San Francisco. This hike is moderate\, 8.5 miles long with 1430ft elevation gain.nnYou are required to wear a mask all the time\, and please keep social distancing.nnI’m not responsible for anything. You are liable for your own safety\, security\, health\, or any unexpected matter.nnGathering location:nhttps://goo.gl/maps/xFjUTQ33ciMjTCrG6nnTrail Map:nhttps://www.alltrails.com/explore/trail/us/california/coastal-trail-miwok-trail-and-bonita-lighthouse-loopnnRecommendations:n* Parking is limited\, so please carpool.n* We’ll have a break on the hike\, so snacks and/or a small sandwich is highly recommended.n* Plenty of water (minimum 2L)n* Do not cover up yourself heavily with jackets. You’ll get warm right after you start walking.nnPlease confirm by the night before the hike.
URL:https://naturebloomers.com/event/hiking-with-amazing-views-over-the-ocean-and-sausalito/
LOCATION:Bodsworth Road\, Bodsworth Rd\, California\, CA\, United States
END:VEVENT
END:VCALENDAR