BEGIN:VCALENDAR
VERSION:2.0
PRODID:-//Nature Bloomers - ECPv6.15.20//NONSGML v1.0//EN
CALSCALE:GREGORIAN
METHOD:PUBLISH
X-WR-CALNAME:Nature Bloomers
X-ORIGINAL-URL:https://naturebloomers.com
X-WR-CALDESC:Events for Nature Bloomers
REFRESH-INTERVAL;VALUE=DURATION:PT1H
X-Robots-Tag:noindex
X-PUBLISHED-TTL:PT1H
BEGIN:VTIMEZONE
TZID:America/Los_Angeles
BEGIN:DAYLIGHT
TZOFFSETFROM:-0800
TZOFFSETTO:-0700
TZNAME:PDT
DTSTART:20230312T100000
END:DAYLIGHT
BEGIN:STANDARD
TZOFFSETFROM:-0700
TZOFFSETTO:-0800
TZNAME:PST
DTSTART:20231105T090000
END:STANDARD
BEGIN:DAYLIGHT
TZOFFSETFROM:-0800
TZOFFSETTO:-0700
TZNAME:PDT
DTSTART:20240310T100000
END:DAYLIGHT
BEGIN:STANDARD
TZOFFSETFROM:-0700
TZOFFSETTO:-0800
TZNAME:PST
DTSTART:20241103T090000
END:STANDARD
BEGIN:DAYLIGHT
TZOFFSETFROM:-0800
TZOFFSETTO:-0700
TZNAME:PDT
DTSTART:20250309T100000
END:DAYLIGHT
BEGIN:STANDARD
TZOFFSETFROM:-0700
TZOFFSETTO:-0800
TZNAME:PST
DTSTART:20251102T090000
END:STANDARD
END:VTIMEZONE
BEGIN:VEVENT
DTSTART;TZID=America/Los_Angeles:20241013T020000
DTEND;TZID=America/Los_Angeles:20241013T020000
DTSTAMP:20260419T143008
CREATED:20241002T004756Z
LAST-MODIFIED:20241218T211811Z
UID:1244-1728784800-1728784800@naturebloomers.com
SUMMARY:Walk for Wellness; A Healing Journey at Lands End
DESCRIPTION:**Event:** 223n**Distance:** 3.4 milesn**Total Elevation Gain:** 554 ft.n**Difficulty:** 2/10n**Route Type:** Loopn**Gathering location:** 37.78071\, -122.51172n[https://maps.app.goo.gl/i4Qag37mZ2pVRLkE9?g_st=i&utm_campaign=ac-im](https://maps.app.goo.gl/i4Qag37mZ2pVRLkE9?g_st=i&utm_campaign=ac-im)nn### Overview:nnLet’s walk together\, breathe deeply\, and shine a light on the importance of both physical and mental well-being! Join us for a refreshing hike at Lands End Trail in San Francisco\, an event organized by Nature Bloomers in collaboration with Beyond Celiac. With an elevation gain of 554 feet\, this hike offers stunning coastal views and a gentle challenge\, making it accessible to participants of all abilities.nnThis event is specially designed to focus on the intersection of mental health and invisible illnesses such as celiac disease and other autoimmune and gastrointestinal issues. Hiking in nature provides a great opportunity for individuals to unwind\, connect with themselves\, and temporarily escape the everyday challenges of dietary and lifestyle restrictions.nnWe welcome everyone\, especially those affected by celiac disease\, IBS\, or other chronic conditions\, to join us for a mindful and supportive walk. Led by Nature Bloomers and supported by Beyond Celiac\, this hike will offer a sense of community\, encouragement\, and the chance to connect with others who understand the unique journey of living with invisible illnesses. Light snacks will be provided.nn**Parking:** Same as gathering location. [https://maps.app.goo.gl/i4Qag37mZ2pVRLkE9?g_st=i&utm_campaign=ac-im](https://maps.app.goo.gl/i4Qag37mZ2pVRLkE9?g_st=i&utm_campaign=ac-im)nn**Be Prepared:** Please wear layered clothing and sunscreen. Bring plenty of water\, and good energy 🙂nn**Legal Disclaimers:** By voluntarily joining us for any event\, you acknowledge and accept the inherent risks involved in these activities and assume full responsibility for your personal safety. Your participation is voluntary\, and hereby RELEASE and DISCHARGE Nature Bloomers organizers\, hosts and participants from any and all liability\, claims\, demands\, damages\, injuries or causes of action arising in whole or in part that may occur before\, during\, or after the event\, including travel to and from the event location. Your attendance implies to be in the photos and videos taken to be posted on our social media platforms. By attending this event\, you confirm that you have read\, understood\, and agreed to these terms and conditions.
URL:https://naturebloomers.com/event/walk-for-wellness-a-healing-journey-at-lands-end/
LOCATION:Lands End Parking Lot\, 2575 El Camino del Mar\, San Francisco\, CA\, 94131\, United States
CATEGORIES:Past Events
ATTACH;FMTTYPE=image/jpeg:https://naturebloomers.com/wp-content/uploads/2024/12/1000x600-2lAtqX.tmp_.jpg
END:VEVENT
BEGIN:VEVENT
DTSTART;TZID=America/Los_Angeles:20241027T010000
DTEND;TZID=America/Los_Angeles:20241027T010000
DTSTAMP:20260419T143008
CREATED:20241218T211810Z
LAST-MODIFIED:20241218T211810Z
UID:1873-1729990800-1729990800@naturebloomers.com
SUMMARY:Rolling through Los Altos
DESCRIPTION:**Event:** 224n**Distance:** 18 milesn**Total Elevation Gain:** 1\,022 ft.n**Difficulty:** 5n**Route Type:** Loopn**Gathering location:** 37.423346\, -122.170631n[https://maps.app.goo.gl/zcp3PwQ6in7mDqud6?g_st=it](https://maps.app.goo.gl/zcp3PwQ6in7mDqud6?g_st=it)nPlease use Google maps only for navigation.nn**Overview:** nThis route offers a scenic and enjoyable ride through some of the most picturesque areas in the Los Altos Hills and Portola Valley region. The ride combines suburban with natural beauty\, offering both recreational and fitness benefits. You’ll pass through peaceful residential areas before transitioning onto Alpine Road\, where the terrain becomes more rolling with open fields\, oak trees\, and distant mountain views.nWe will start the ride promptly at 9:15 amnn**Parking:** [https://maps.app.goo.gl/zcp3PwQ6in7mDqud6?g_st=it](https://maps.app.goo.gl/zcp3PwQ6in7mDqud6?g_st=it)nSame as the gathering location!nn**Be Prepared:** Please wear a helmet\, use sunscreen\, and make sure to wear some layers. Parts of the route are shared with cars. Bring plenty of water\, snacks\, and a good attitude!nn**Do Not Attend:** If you’re experiencing any cold or flu symptoms\, have compromised immune systems\, or if you’ve been exposed to or tested positive for COVID-19. n**Legal Disclaimers:** By voluntarily joining us for any event\, you acknowledge and accept the inherent risks involved in these activities and assume full responsibility for your personal safety. Your participation is voluntary\, and hereby RELEASE and DISCHARGE Nature Bloomers organizers\, hosts and participants from any and all liability\, claims\, demands\, damages\, injuries or causes of action arising in whole or in part that may occur before\, during\, or after the event\, including travel to and from the event location. Your attendance implies to be in the photos and videos taken to be posted on our social media platforms. By attending this event\, you confirm that you have read\, understood\, and agreed to these terms and conditions.
URL:https://naturebloomers.com/event/rolling-through-los-altos/
LOCATION:Tresidder Parking Lot\, 436 Mayfield Avenue\, Stanford\, CA\, 94305\, United States
ATTACH;FMTTYPE=image/jpeg:https://naturebloomers.com/wp-content/uploads/2024/12/1000x600-fsNl6x.tmp_.jpg
END:VEVENT
END:VCALENDAR