BEGIN:VCALENDAR
VERSION:2.0
PRODID:-//Nature Bloomers - ECPv6.15.20//NONSGML v1.0//EN
CALSCALE:GREGORIAN
METHOD:PUBLISH
X-WR-CALNAME:Nature Bloomers
X-ORIGINAL-URL:https://naturebloomers.com
X-WR-CALDESC:Events for Nature Bloomers
REFRESH-INTERVAL;VALUE=DURATION:PT1H
X-Robots-Tag:noindex
X-PUBLISHED-TTL:PT1H
BEGIN:VTIMEZONE
TZID:America/Los_Angeles
BEGIN:DAYLIGHT
TZOFFSETFROM:-0800
TZOFFSETTO:-0700
TZNAME:PDT
DTSTART:20230312T100000
END:DAYLIGHT
BEGIN:STANDARD
TZOFFSETFROM:-0700
TZOFFSETTO:-0800
TZNAME:PST
DTSTART:20231105T090000
END:STANDARD
BEGIN:DAYLIGHT
TZOFFSETFROM:-0800
TZOFFSETTO:-0700
TZNAME:PDT
DTSTART:20240310T100000
END:DAYLIGHT
BEGIN:STANDARD
TZOFFSETFROM:-0700
TZOFFSETTO:-0800
TZNAME:PST
DTSTART:20241103T090000
END:STANDARD
BEGIN:DAYLIGHT
TZOFFSETFROM:-0800
TZOFFSETTO:-0700
TZNAME:PDT
DTSTART:20250309T100000
END:DAYLIGHT
BEGIN:STANDARD
TZOFFSETFROM:-0700
TZOFFSETTO:-0800
TZNAME:PST
DTSTART:20251102T090000
END:STANDARD
END:VTIMEZONE
BEGIN:VEVENT
DTSTART;TZID=America/Los_Angeles:20241103T010000
DTEND;TZID=America/Los_Angeles:20241103T010000
DTSTAMP:20260419T124909
CREATED:20241218T211809Z
LAST-MODIFIED:20241218T211809Z
UID:1871-1730595600-1730595600@naturebloomers.com
SUMMARY:Exploring Cronan Ranch Regional Park
DESCRIPTION:ONLY use Google Maps! Coping the address and pasting it will take you to a wrong location.nn**Event:** 225n**Gathering location:** 38.82605\, -120.94779n**Distance:** 7 milesn**Route Type:** Loopn**Total Elevation Gain:** 1\,115 ft.n**Difficulty:** 7nnJoin Nature Bloomers for an exciting hike through Cronan Ranch Regional Trails Park. This route winds through a mixed oak woodland\, with the sound of flowing water nearby. Along the way\, we’ll stop at a picnic table with a scenic overlook of the South Fork of the American River. The trail also features some outstanding views of the Sierra Nevada Mountains.nn**Please pack a lunch\, as we’ll be enjoying our meal along the trail.**nnWe’ll meet at the pinned location at 8:45 AM and start at 9:00 AM.nnFor more information please check the below link:nnhttps://www.alltrails.com/explore/trail/us/california/greenwood-creek-down-up-south-fork-american-river-and-gerle-loopnn**Be Prepared:** Please bring water (minimum half a gallon)\, shoes with traction\, a snack for before\, during\, and/or after\, packed lunch\, and your sunscreennn**Parking:** There is a free parking lot at the trailhead.nn**Do Not Attend:** If you’re experiencing any cold or flu symptoms\, have compromised immune systems\, or if you’ve been exposed to or tested positive for COVID-19nn**Legal Disclaimers:** By voluntarily joining us for any event\, you hereby RELEASE and DISCHARGE Nature Bloomers organizers\, hosts and participants from any and all liability\, claims\, demands or causes of action arising in whole or in part out of our events
URL:https://naturebloomers.com/event/exploring-cronan-ranch-regional-park/
LOCATION:Greenwood Creek River Access\, Highway 49\, Lotus\, CA\, United States
ATTACH;FMTTYPE=image/jpeg:https://naturebloomers.com/wp-content/uploads/2024/12/1000x600-B7ibB5.tmp_.jpg
END:VEVENT
BEGIN:VEVENT
DTSTART;TZID=America/Los_Angeles:20241110T013000
DTEND;TZID=America/Los_Angeles:20241110T013000
DTSTAMP:20260419T124909
CREATED:20241218T211808Z
LAST-MODIFIED:20241218T211808Z
UID:1869-1731202200-1731202200@naturebloomers.com
SUMMARY:🍁 Fall Foliage Hike in Portola Valley! 🍂
DESCRIPTION:ONLY use Google Maps! n**Event**: 226n**Distance**: 5.8 milesn**Total Elevation Gain**: 750 ftn**Difficulty**: 5 out of 10n**Gathering** **coordinates**: 37.3645016683\, -122.21555198nhttps://maps.app.goo.gl/ZDGFvFxXzDd82gtk8nn**Hike Overview**nJoin us for a scenic hike to enjoy the stunning colors of fall! This moderate hike will take us through beautiful trails surrounded by vibrant autumn leaves\, crisp air\, and stunning landscapes. Perfect for nature lovers and photographers alike\, it’s a wonderful way to embrace the season and connect with fellow outdoor enthusiasts. The town of Portola Valley is a runner’s and hiker’s paradise\, with as many miles of trails as there are paved roads. The trails are interwoven throughout the town\, connecting to residential streets.nn**Be Prepared**nPlease prepare with layered clothing\, sunscreen and/or hat\, sturdy hiking shoes/boots\, enough of water\, snacks.nn**Parking**nParking on the road is allowed but limited\, and therefore carpooling is HIGHLY recommended. Please allow enough of time for parking.nn**Legal Disclaimers**nBy voluntarily joining us for any event\, you hereby RELEASE and DISCHARGE Nature Bloomers\, organizers\, hosts and participants from any and all liability\, claims\, demands or causes of action arising in whole or in part out of our events or/and on the way to the event.nYour attendance implies your consent to be in the photos and videos.
URL:https://naturebloomers.com/event/%f0%9f%8d%81-fall-foliage-hike-in-portola-valley-%f0%9f%8d%82/
ATTACH;FMTTYPE=image/jpeg:https://naturebloomers.com/wp-content/uploads/2024/12/1000x600-QpZ4og.tmp_.jpg
END:VEVENT
BEGIN:VEVENT
DTSTART;TZID=America/Los_Angeles:20241117T063000
DTEND;TZID=America/Los_Angeles:20241117T063000
DTSTAMP:20260419T124909
CREATED:20241218T211807Z
LAST-MODIFIED:20241218T211807Z
UID:1867-1731825000-1731825000@naturebloomers.com
SUMMARY:Reconnect and Refresh: Experience Forest Bathing!
DESCRIPTION:ONLY use Google Maps!n**Event**: 228n**Distance**: One milen**Total Elevation Gain**: 100 ftn**Difficulty**: 4 out of 10n**Gathering** **coordinates**: 37.3645016683\, -122.21555198nhttps://maps.app.goo.gl/pioR6Tdautuw4x7y5nn**Overview:**nReconnect with nature and refresh your mind and body with a guided Forest Bathing session\, rooted in the Japanese practice of Shinrin-yoku. Forest bathing emphasizes slow walks\, sitting\, or lying down to deeply observe and appreciate the immediate surroundings to relax and immerse in the present moment\, cultivating a deeper relationship with the natural world. This practice encourages a gentle pace\, where walking\, sitting\, or lying down become opportunities to appreciate the immediate surroundings. Engaging all senses—sight\, sound\, smell\, taste\, and touch—forest bathing creates a healing environment that fosters mental clarity\, inner peace\, and a genuine connection with nature. Research has shown that this immersive experience can reduce stress hormones\, lower blood pressure\, boost immunity\, improve mood and cognitive function\, and even stimulate creativity. Lasting two to three hours and covering a one mile slow walk\, this event offers a restorative escape from daily demands and an invitation to explore nature with an open heart and mind.nn#### What to Expect:nn* Creating deeper relationship with natural spaces through a series of invitations by a Certified Forest Bathing Guiden* A peaceful\, slow-paced\, and guided walk to feel grounded and centeredn* Opportunities to engage all your senses and deepen your connection to naturen* Reflection time to absorb the benefits of the natural environmentn* Light snacknn**About the Guide**: Madeleine Gerdes is a Certified Nature & Forest Therapy Guide accredited through the Association of Nature and Forest Therapy Guides (ANFT). She provides Forest Bathing outings in Silicon Valley and the Santa Cruz Mountains through Mad About The Forest. Madeleine and her husband are active Volunteer Trail Patrol members with the Midpeninsula Regional Open Space District.nn**Reserve Your Spot Today!** Limited spots are available\, so make sure to sign up early! To book your spot\, Venmo @Nature_Bloomers or use the link below:nnhttps://naturebloomers.com/event/join-nature-bloomers-for-a-rejuvenating-forest-bathing-experience/
URL:https://naturebloomers.com/event/reconnect-and-refresh-experience-forest-bathing/
ATTACH;FMTTYPE=image/jpeg:https://naturebloomers.com/wp-content/uploads/2024/12/1000x600-ShWezK.tmp_.jpg
END:VEVENT
BEGIN:VEVENT
DTSTART;TZID=America/Los_Angeles:20241117T063000
DTEND;TZID=America/Los_Angeles:20241117T090000
DTSTAMP:20260419T124909
CREATED:20240918T022946Z
LAST-MODIFIED:20241224T042939Z
UID:1030-1731825000-1731834000@naturebloomers.com
SUMMARY:Reconnect and Refresh: Join a Tranquil Forest Bathing Experience!
DESCRIPTION:Reconnect with nature and refresh your mind and body with a guided Forest Bathing session\, rooted in the Japanese practice of Shinrin-yoku. Forest bathing emphasizes slow walks\, sitting\, or lying down to deeply observe and appreciate the immediate surroundings to relax and immerse in the present moment\, cultivating a deeper relationship with the natural world. This practice encourages a gentle pace\, where walking\, sitting\, or lying down become opportunities to appreciate the immediate surroundings. Engaging all senses—sight\, sound\, smell\, taste\, and touch—forest bathing creates a healing environment that fosters mental clarity\, inner peace\, and a genuine connection with nature. Research has shown that this immersive experience can reduce stress hormones\, lower blood pressure\, boost immunity\, improve mood and cognitive function\, and even stimulate creativity. Lasting two to three hours and covering a one mile slow walk\, this event offers a restorative escape from daily demands and an invitation to explore nature with an open heart and mind. \nEvent Details:\n\nDate: November 17\, 2024\nTime: 2:30 pm\nLocation: Stanford Campus\n\nThis mindful nature walk is designed to enhance mental health and well-being by slowing down\, breathing deeply\, and soaking in the serene surroundings. No prior experience is required—just an open mind and a willingness to connect with the natural world. \nWhat to Expect:\n\nCreating deeper relationship with natural spaces through a series of invitations by a Certified Forest Bathing Guide\nA peaceful\, slow-paced\, and guided walk to feel grounded and centered\nOpportunities to engage all your senses and deepen your connection to nature\nReflection time to absorb the benefits of the natural environment\nLight snack\n\nAbout the Guide: Madeleine Gerdes is a Certified Nature & Forest Therapy Guide accredited through the Association of Nature and Forest Therapy Guides (ANFT). She provides Forest Bathing outings in Silicon Valley and the Santa Cruz Mountains through Mad About The Forest. Madeleine and her husband are active Volunteer Trail Patrol members with the Midpeninsula Regional Open Space District. \nReserve Your Spot Today! Limited spots are available\, so make sure to sign up early!
URL:https://naturebloomers.com/event/join-nature-bloomers-for-a-rejuvenating-forest-bathing-experience/
LOCATION:Stanford Campus\, 450 Santa Teresa St\, Stanford CA\, CA\, 94305\, United States
CATEGORIES:Past Events
ATTACH;FMTTYPE=image/jpeg:https://naturebloomers.com/wp-content/uploads/2024/09/forest-bathing.jpg
END:VEVENT
END:VCALENDAR